BEGIN:VCALENDAR
VERSION:2.0
PRODID:-//Au Bavarois Dart Liga//FR
CALSCALE:GREGORIAN
METHOD:PUBLISH
X-WR-CALNAME:Saison 2 - Dart Liga
X-WR-TIMEZONE:Europe/Paris
BEGIN:VTIMEZONE
TZID:Europe/Paris
BEGIN:STANDARD
TZOFFSETFROM:+0200
TZOFFSETTO:+0100
TZNAME:CET
DTSTART:19701025T030000
RRULE:FREQ=YEARLY;BYDAY=-1SU;BYMONTH=10
END:STANDARD
BEGIN:DAYLIGHT
TZOFFSETFROM:+0100
TZOFFSETTO:+0200
TZNAME:CEST
DTSTART:19700329T020000
RRULE:FREQ=YEARLY;BYDAY=-1SU;BYMONTH=3
END:DAYLIGHT
END:VTIMEZONE
BEGIN:VEVENT
UID:tournament-1-season-1@dartliga.aubavarois.fr
DTSTAMP:20260421T014134Z
DTSTART;TZID=Europe/Paris:20260330T193000
DTEND;TZID=Europe/Paris:20260330T210000
SUMMARY:301 Double Out - Au Bavarois Dart Liga
LOCATION:Au Bavarois\, Annecy
DESCRIPTION:Mode: 1v1 | Tournoi #1 | Saison: Saison 2
END:VEVENT
BEGIN:VEVENT
UID:tournament-2-season-1@dartliga.aubavarois.fr
DTSTAMP:20260421T014134Z
DTSTART;TZID=Europe/Paris:20260414T193000
DTEND;TZID=Europe/Paris:20260414T210000
SUMMARY:301 Double Out - Au Bavarois Dart Liga
LOCATION:Au Bavarois\, Annecy
DESCRIPTION:Mode: 1v1 | Tournoi #2 | Saison: Saison 2
END:VEVENT
BEGIN:VEVENT
UID:tournament-6-season-1@dartliga.aubavarois.fr
DTSTAMP:20260421T014134Z
DTSTART;TZID=Europe/Paris:20260415T193000
DTEND;TZID=Europe/Paris:20260415T210000
SUMMARY:Hunter 301 - Au Bavarois Dart Liga
LOCATION:Au Bavarois\, Annecy
DESCRIPTION:Mode: 4players | Tournoi #6 | Saison: Saison 2
END:VEVENT
BEGIN:VEVENT
UID:tournament-8-season-1@dartliga.aubavarois.fr
DTSTAMP:20260421T014134Z
DTSTART;TZID=Europe/Paris:20260422T193000
DTEND;TZID=Europe/Paris:20260422T210000
SUMMARY:Cricket Law Ball - Au Bavarois Dart Liga
LOCATION:Au Bavarois\, Annecy
DESCRIPTION:Mode: 4players | Tournoi #8 | Saison: Saison 2
END:VEVENT
BEGIN:VEVENT
UID:tournament-9-season-1@dartliga.aubavarois.fr
DTSTAMP:20260421T014134Z
DTSTART;TZID=Europe/Paris:20260427T193000
DTEND;TZID=Europe/Paris:20260427T210000
SUMMARY:Tic Tac Toe - Au Bavarois Dart Liga
LOCATION:Au Bavarois\, Annecy
DESCRIPTION:Mode: 1v1 | Tournoi #9 | Saison: Saison 2
END:VEVENT
BEGIN:VEVENT
UID:tournament-10-season-1@dartliga.aubavarois.fr
DTSTAMP:20260421T014134Z
DTSTART;TZID=Europe/Paris:20260429T193000
DTEND;TZID=Europe/Paris:20260429T210000
SUMMARY:Tic Tac Toe - Au Bavarois Dart Liga
LOCATION:Au Bavarois\, Annecy
DESCRIPTION:Mode: 1v1 | Tournoi #10 | Saison: Saison 2
END:VEVENT
BEGIN:VEVENT
UID:tournament-11-season-1@dartliga.aubavarois.fr
DTSTAMP:20260421T014134Z
DTSTART;TZID=Europe/Paris:20260504T193000
DTEND;TZID=Europe/Paris:20260504T210000
SUMMARY:Cricket Wild - Au Bavarois Dart Liga
LOCATION:Au Bavarois\, Annecy
DESCRIPTION:Mode: 4players | Tournoi #11 | Saison: Saison 2
END:VEVENT
BEGIN:VEVENT
UID:tournament-12-season-1@dartliga.aubavarois.fr
DTSTAMP:20260421T014134Z
DTSTART;TZID=Europe/Paris:20260506T193000
DTEND;TZID=Europe/Paris:20260506T210000
SUMMARY:Cricket Wild - Au Bavarois Dart Liga
LOCATION:Au Bavarois\, Annecy
DESCRIPTION:Mode: 4players | Tournoi #12 | Saison: Saison 2
END:VEVENT
BEGIN:VEVENT
UID:tournament-13-season-1@dartliga.aubavarois.fr
DTSTAMP:20260421T014134Z
DTSTART;TZID=Europe/Paris:20260511T193000
DTEND;TZID=Europe/Paris:20260511T210000
SUMMARY:Horse - Au Bavarois Dart Liga
LOCATION:Au Bavarois\, Annecy
DESCRIPTION:Mode: 4players | Tournoi #13 | Saison: Saison 2
END:VEVENT
BEGIN:VEVENT
UID:tournament-14-season-1@dartliga.aubavarois.fr
DTSTAMP:20260421T014134Z
DTSTART;TZID=Europe/Paris:20260513T193000
DTEND;TZID=Europe/Paris:20260513T210000
SUMMARY:Horse - Au Bavarois Dart Liga
LOCATION:Au Bavarois\, Annecy
DESCRIPTION:Mode: 4players | Tournoi #14 | Saison: Saison 2
END:VEVENT
BEGIN:VEVENT
UID:tournament-15-season-1@dartliga.aubavarois.fr
DTSTAMP:20260421T014134Z
DTSTART;TZID=Europe/Paris:20260518T193000
DTEND;TZID=Europe/Paris:20260518T210000
SUMMARY:Sniper - Au Bavarois Dart Liga
LOCATION:Au Bavarois\, Annecy
DESCRIPTION:Mode: 4players | Tournoi #15 | Saison: Saison 2
END:VEVENT
BEGIN:VEVENT
UID:tournament-16-season-1@dartliga.aubavarois.fr
DTSTAMP:20260421T014134Z
DTSTART;TZID=Europe/Paris:20260520T193000
DTEND;TZID=Europe/Paris:20260520T210000
SUMMARY:Sniper - Au Bavarois Dart Liga
LOCATION:Au Bavarois\, Annecy
DESCRIPTION:Mode: 4players | Tournoi #16 | Saison: Saison 2
END:VEVENT
BEGIN:VEVENT
UID:tournament-17-season-1@dartliga.aubavarois.fr
DTSTAMP:20260421T014134Z
DTSTART;TZID=Europe/Paris:20260525T193000
DTEND;TZID=Europe/Paris:20260525T210000
SUMMARY:Archery - Au Bavarois Dart Liga
LOCATION:Au Bavarois\, Annecy
DESCRIPTION:Mode: 4players | Tournoi #17 | Saison: Saison 2
END:VEVENT
BEGIN:VEVENT
UID:tournament-18-season-1@dartliga.aubavarois.fr
DTSTAMP:20260421T014134Z
DTSTART;TZID=Europe/Paris:20260527T193000
DTEND;TZID=Europe/Paris:20260527T210000
SUMMARY:Archery - Au Bavarois Dart Liga
LOCATION:Au Bavarois\, Annecy
DESCRIPTION:Mode: 4players | Tournoi #18 | Saison: Saison 2
END:VEVENT
BEGIN:VEVENT
UID:tournament-19-season-1@dartliga.aubavarois.fr
DTSTAMP:20260421T014134Z
DTSTART;TZID=Europe/Paris:20260601T193000
DTEND;TZID=Europe/Paris:20260601T210000
SUMMARY:Bermuda - Au Bavarois Dart Liga
LOCATION:Au Bavarois\, Annecy
DESCRIPTION:Mode: 4players | Tournoi #19 | Saison: Saison 2
END:VEVENT
BEGIN:VEVENT
UID:tournament-20-season-1@dartliga.aubavarois.fr
DTSTAMP:20260421T014134Z
DTSTART;TZID=Europe/Paris:20260603T193000
DTEND;TZID=Europe/Paris:20260603T210000
SUMMARY:Bermuda - Au Bavarois Dart Liga
LOCATION:Au Bavarois\, Annecy
DESCRIPTION:Mode: 4players | Tournoi #20 | Saison: Saison 2
END:VEVENT
BEGIN:VEVENT
UID:tournament-21-season-1@dartliga.aubavarois.fr
DTSTAMP:20260421T014134Z
DTSTART;TZID=Europe/Paris:20260608T193000
DTEND;TZID=Europe/Paris:20260608T210000
SUMMARY:Hunter 301 - Au Bavarois Dart Liga
LOCATION:Au Bavarois\, Annecy
DESCRIPTION:Mode: 4players | Tournoi #21 | Saison: Saison 2
END:VEVENT
BEGIN:VEVENT
UID:tournament-22-season-1@dartliga.aubavarois.fr
DTSTAMP:20260421T014134Z
DTSTART;TZID=Europe/Paris:20260610T193000
DTEND;TZID=Europe/Paris:20260610T210000
SUMMARY:Hunter 301 - Au Bavarois Dart Liga
LOCATION:Au Bavarois\, Annecy
DESCRIPTION:Mode: 4players | Tournoi #22 | Saison: Saison 2
END:VEVENT
BEGIN:VEVENT
UID:tournament-23-season-1@dartliga.aubavarois.fr
DTSTAMP:20260421T014134Z
DTSTART;TZID=Europe/Paris:20260615T193000
DTEND;TZID=Europe/Paris:20260615T210000
SUMMARY:Cricket Cut Throat - Au Bavarois Dart Liga
LOCATION:Au Bavarois\, Annecy
DESCRIPTION:Mode: 4players | Tournoi #23 | Saison: Saison 2
END:VEVENT
BEGIN:VEVENT
UID:tournament-24-season-1@dartliga.aubavarois.fr
DTSTAMP:20260421T014134Z
DTSTART;TZID=Europe/Paris:20260617T193000
DTEND;TZID=Europe/Paris:20260617T210000
SUMMARY:Cricket Cut Throat - Au Bavarois Dart Liga
LOCATION:Au Bavarois\, Annecy
DESCRIPTION:Mode: 4players | Tournoi #24 | Saison: Saison 2
END:VEVENT
BEGIN:VEVENT
UID:tournament-25-season-1@dartliga.aubavarois.fr
DTSTAMP:20260421T014134Z
DTSTART;TZID=Europe/Paris:20260622T193000
DTEND;TZID=Europe/Paris:20260622T210000
SUMMARY:501 Double Out - Au Bavarois Dart Liga
LOCATION:Au Bavarois\, Annecy
DESCRIPTION:Mode: 1v1 | Tournoi #25 | Saison: Saison 2
END:VEVENT
BEGIN:VEVENT
UID:tournament-26-season-1@dartliga.aubavarois.fr
DTSTAMP:20260421T014134Z
DTSTART;TZID=Europe/Paris:20260624T193000
DTEND;TZID=Europe/Paris:20260624T210000
SUMMARY:501 Double Out - Au Bavarois Dart Liga
LOCATION:Au Bavarois\, Annecy
DESCRIPTION:Mode: 1v1 | Tournoi #26 | Saison: Saison 2
END:VEVENT
END:VCALENDAR
